BEGIN:VCALENDAR
VERSION:2.0
PRODID:-//wp-events-plugin.com//7.2.3.1//EN
TZID:Europe/Berlin
X-WR-TIMEZONE:Europe/Berlin
BEGIN:VEVENT
UID:3865@jugendschach-in-brandenburg.de
DTSTART;TZID=Europe/Berlin;VALUE=DATE:20241108
DTEND;TZID=Europe/Berlin;VALUE=DATE:20241111
DTSTAMP:20240904T054549Z
URL:https://www.jugendschach-in-brandenburg.de/events/16-deutscher-schulsc
 hachkongress
SUMMARY:16. Deutscher Schulschachkongress
DESCRIPTION:zur Anmeldung\n[pdf id='20861']
END:VEVENT
BEGIN:VTIMEZONE
TZID:Europe/Berlin
X-LIC-LOCATION:Europe/Berlin
BEGIN:STANDARD
DTSTART:20241027T020000
TZOFFSETFROM:+0200
TZOFFSETTO:+0100
TZNAME:CET
END:STANDARD
END:VTIMEZONE
END:VCALENDAR