BEGIN:VCALENDAR
VERSION:2.0
PRODID:-//wp-events-plugin.com//7.2.3.1//EN
TZID:Europe/Berlin
X-WR-TIMEZONE:Europe/Berlin
BEGIN:VEVENT
UID:3879@jugendschach-in-brandenburg.de
DTSTART;TZID=Europe/Berlin:20250517T090000
DTEND;TZID=Europe/Berlin:20250517T160000
DTSTAMP:20250331T132359Z
URL:https://www.jugendschach-in-brandenburg.de/events/briesener-fruehlings
 turnier
SUMMARY:Briesener Frühlingsturnier
DESCRIPTION:[pdf_embed url="https://www.jugendschach-in-brandenburg.de/wp-c
 ontent/uploads/2025/03/briesener-fruehlingsturnier2025.pdf"]
LOCATION:Grundschule „Martin Andersen Nexö“\, Frankfurter Straße 74\,
  Briesen (Mark)\, 15518\, Deutschland
X-APPLE-STRUCTURED-LOCATION;VALUE=URI;X-ADDRESS=Frankfurter Straße 74\, Br
 iesen (Mark)\, 15518\, Deutschland;X-APPLE-RADIUS=100;X-TITLE=Grundschule 
 „Martin Andersen Nexö“:geo:0,0
END:VEVENT
BEGIN:VTIMEZONE
TZID:Europe/Berlin
X-LIC-LOCATION:Europe/Berlin
BEGIN:DAYLIGHT
DTSTART:20250330T030000
TZOFFSETFROM:+0100
TZOFFSETTO:+0200
TZNAME:CEST
END:DAYLIGHT
END:VTIMEZONE
END:VCALENDAR