BEGIN:VCALENDAR
VERSION:2.0
PRODID:-//wp-events-plugin.com//7.2.3.1//EN
TZID:Europe/Berlin
X-WR-TIMEZONE:Europe/Berlin
BEGIN:VEVENT
UID:3926@jugendschach-in-brandenburg.de
DTSTART;TZID=Europe/Berlin:20260905T000000
DTEND;TZID=Europe/Berlin:20260906T000000
DTSTAMP:20260404T093541Z
URL:https://www.jugendschach-in-brandenburg.de/events/bvjm-u08-und-u10
SUMMARY:BVJM u08 und u10
DESCRIPTION:Ausschreibung folgt\n\nAustragungsort Hennickendorf
END:VEVENT
BEGIN:VTIMEZONE
TZID:Europe/Berlin
X-LIC-LOCATION:Europe/Berlin
BEGIN:DAYLIGHT
DTSTART:20260329T030000
TZOFFSETFROM:+0100
TZOFFSETTO:+0200
TZNAME:CEST
END:DAYLIGHT
END:VTIMEZONE
END:VCALENDAR