BEGIN:VCALENDAR
VERSION:2.0
PRODID:-//wp-events-plugin.com//7.2.3.1//EN
TZID:Europe/Berlin
X-WR-TIMEZONE:Europe/Berlin
BEGIN:VEVENT
UID:3906@jugendschach-in-brandenburg.de
DTSTART;TZID=Europe/Berlin:20251017T150000
DTEND;TZID=Europe/Berlin:20251017T150000
DTSTAMP:20250924T084739Z
URL:https://www.jugendschach-in-brandenburg.de/events/herbstturnier-in-pot
 sdam
SUMMARY:Herbstturnier in Potsdam
DESCRIPTION:
LOCATION:Grundschule am Priesterweg\, O-Meßter Str. 4-6\, Potsdam\, 14480\
 , Deutschland
X-APPLE-STRUCTURED-LOCATION;VALUE=URI;X-ADDRESS=O-Meßter Str. 4-6\, Potsda
 m\, 14480\, Deutschland;X-APPLE-RADIUS=100;X-TITLE=Grundschule am Priester
 weg:geo:0,0
END:VEVENT
BEGIN:VTIMEZONE
TZID:Europe/Berlin
X-LIC-LOCATION:Europe/Berlin
BEGIN:DAYLIGHT
DTSTART:20250330T030000
TZOFFSETFROM:+0100
TZOFFSETTO:+0200
TZNAME:CEST
END:DAYLIGHT
END:VTIMEZONE
END:VCALENDAR