BEGIN:VCALENDAR
VERSION:2.0
PRODID:-//wp-events-plugin.com//7.2.3.1//EN
TZID:Europe/Berlin
X-WR-TIMEZONE:Europe/Berlin
BEGIN:VEVENT
UID:3917@jugendschach-in-brandenburg.de
DTSTART;TZID=Europe/Berlin:20260124T090000
DTEND;TZID=Europe/Berlin:20260125T160000
DTSTAMP:20260105T105122Z
URL:https://www.jugendschach-in-brandenburg.de/events/rem-ost-u08w
SUMMARY:REM Ost u08(w)
DESCRIPTION:[pdf_embed url="https://www.jugendschach-in-brandenburg.de/wp-c
 ontent/uploads/2025/12/REMOst2026u8-1.pdf"]
LOCATION:Rüdersdorf\, Willi-Müller-Straße 11\, Rüdersdorf\, 15562\, Deu
 tschland
X-APPLE-STRUCTURED-LOCATION;VALUE=URI;X-ADDRESS=Willi-Müller-Straße 11\, 
 Rüdersdorf\, 15562\, Deutschland;X-APPLE-RADIUS=100;X-TITLE=Rüdersdorf:g
 eo:0,0
END:VEVENT
BEGIN:VTIMEZONE
TZID:Europe/Berlin
X-LIC-LOCATION:Europe/Berlin
BEGIN:STANDARD
DTSTART:20251026T020000
TZOFFSETFROM:+0200
TZOFFSETTO:+0100
TZNAME:CET
END:STANDARD
END:VTIMEZONE
END:VCALENDAR